BEGIN:VCALENDAR
VERSION:2.0
PRODID:-//APRI | ASOCIACION DE PROFESIONALES DE LAS RELACIONES INSTITUCIONALES - ECPv6.15.20//NONSGML v1.0//EN
CALSCALE:GREGORIAN
METHOD:PUBLISH
X-WR-CALNAME:APRI | ASOCIACION DE PROFESIONALES DE LAS RELACIONES INSTITUCIONALES
X-ORIGINAL-URL:https://relacionesinstitucionales.es
X-WR-CALDESC:Events for APRI | ASOCIACION DE PROFESIONALES DE LAS RELACIONES INSTITUCIONALES
REFRESH-INTERVAL;VALUE=DURATION:PT1H
X-Robots-Tag:noindex
X-PUBLISHED-TTL:PT1H
BEGIN:VTIMEZONE
TZID:Europe/Madrid
BEGIN:DAYLIGHT
TZOFFSETFROM:+0100
TZOFFSETTO:+0200
TZNAME:CEST
DTSTART:20250330T010000
END:DAYLIGHT
BEGIN:STANDARD
TZOFFSETFROM:+0200
TZOFFSETTO:+0100
TZNAME:CET
DTSTART:20251026T010000
END:STANDARD
BEGIN:DAYLIGHT
TZOFFSETFROM:+0100
TZOFFSETTO:+0200
TZNAME:CEST
DTSTART:20260329T010000
END:DAYLIGHT
BEGIN:STANDARD
TZOFFSETFROM:+0200
TZOFFSETTO:+0100
TZNAME:CET
DTSTART:20261025T010000
END:STANDARD
BEGIN:DAYLIGHT
TZOFFSETFROM:+0100
TZOFFSETTO:+0200
TZNAME:CEST
DTSTART:20270328T010000
END:DAYLIGHT
BEGIN:STANDARD
TZOFFSETFROM:+0200
TZOFFSETTO:+0100
TZNAME:CET
DTSTART:20271031T010000
END:STANDARD
END:VTIMEZONE
BEGIN:VEVENT
DTSTART;TZID=Europe/Madrid:20260422T183000
DTEND;TZID=Europe/Madrid:20260422T183000
DTSTAMP:20260422T110235
CREATED:20260407T093055Z
LAST-MODIFIED:20260407T103519Z
UID:19313-1776882600-1776882600@relacionesinstitucionales.es
SUMMARY:APRI Jóvenes: Del lobby a los corporate affairs
DESCRIPTION:APRI Jóvenes organiza un diálogo con Pedro Fernández\, Senior Director Public Affairs\, Communication and Sustainability en Coca-Cola Company\, que tendrá lugar el próximo 22 de abril a las 18:30h en la sede de APRI. \n\n\n\nLa sesión propone una reflexión sobre la evolución de los asuntos públicos y sobre cómo esta función ha ido ampliando su alcance dentro de las organizaciones\, conectándose cada vez más con ámbitos estratégicos como la comunicación corporativa\, la gestión de la reputación y la sostenibilidad. \n\n\n\nA partir de su propia trayectoria profesional\, Pedro Fernández compartirá una visión práctica sobre el papel que desempeñan hoy los public affairs en la creación de valor a largo plazo\, así como sobre la capacidad de esta profesión para interactuar de manera transversal con otras áreas clave de la empresa. El encuentro permitirá\, además\, analizar cómo el perfil del profesional de asuntos públicos ha evolucionado en los últimos años y qué nuevas oportunidades se abren en un entorno corporativo cada vez más complejo e interconectado. \n\n\n\nEsta nueva sesión de APRI Jóvenes está dirigida especialmente a jóvenes profesionales interesados en conocer de cerca la transformación del sector\, comprender mejor los nuevos espacios de desarrollo de los asuntos públicos y dialogar con un perfil de referencia sobre los retos y oportunidades que plantea hoy la profesión.
URL:https://relacionesinstitucionales.es/eventoapri/del-lobby-a-los-corporate-affairs/
ATTACH;FMTTYPE=image/png:https://relacionesinstitucionales.es/wp-content/uploads/2026/04/FLYERS-2-1.png
END:VEVENT
BEGIN:VEVENT
DTSTART;TZID=Europe/Madrid:20260429T190000
DTEND;TZID=Europe/Madrid:20260429T190000
DTSTAMP:20260422T110235
CREATED:20260318T114256Z
LAST-MODIFIED:20260318T115930Z
UID:19093-1777489200-1777489200@relacionesinstitucionales.es
SUMMARY:APRI Cataluña- encuentro con escritores sobre lobby
DESCRIPTION:Con motivo de Sant Jordi\, APRI Catalunya impulsa por primera vez “Sant Jordi a APRI”\, una iniciativa con vocación anual para fomentar la reflexión sobre los asuntos públicos a través de la lectura. \n\n\n\nEl día 29 de abril\, celebraremos un encuentro con los escritores Carmen Muñoz\, autora de Geopolítica del lobby\, y a David Álvaro\, autor de Lobby en positivo\, en un formato que facilitará un diálogo entre ambos autores a partir de sus obras\, explorando distintas miradas sobre el papel del lobby y la influencia en las democracias actuales. \n\n\n\nFecha y lugar: Miércoles 29 de abril\, a las 19h en la Llibreria +Bernat (Carrer de Buenos Aires 6\, Barcelona)
URL:https://relacionesinstitucionales.es/eventoapri/apri-cataluna-encuentro-con-escritores-sobre-lobby/
ATTACH;FMTTYPE=image/png:https://relacionesinstitucionales.es/wp-content/uploads/2026/03/FLYERS-2-3.png
END:VEVENT
BEGIN:VEVENT
DTSTART;TZID=Europe/Madrid:20260521T103000
DTEND;TZID=Europe/Madrid:20260521T134000
DTSTAMP:20260422T110235
CREATED:20260325T110322Z
LAST-MODIFIED:20260421T095039Z
UID:19135-1779359400-1779370800@relacionesinstitucionales.es
SUMMARY:European Public Affairs Conference (PACE)
DESCRIPTION:APRI\, in collaboration with PACE (Public Affairs Community of Europe)\, the European network that brings together the main national Public Affairs associations of Europe\, will hold the European Public Affairs Conference on May 21st. This particularly relevant event  for the  Public Affairs sector\, will take place at the Spanish Senate in Madrid\, from 10:30 to 13:45\, within the framework of the PACE Annual Meeting 2026. \n\n\n\nThe conference will bring together professionals and representatives from the Public Affairs field to discuss the main trends\, challenges and opportunities shaping the evolution of the sector across Europe.  \n\n\n\n \n\n\n\nThe event will be conducted in English. \n\n\n\nProgramme
URL:https://relacionesinstitucionales.es/eventoapri/european-public-affairs-conference-pace/
ATTACH;FMTTYPE=image/png:https://relacionesinstitucionales.es/wp-content/uploads/2026/03/FLYERS-2-6.png
END:VEVENT
END:VCALENDAR